BEGIN:VCALENDAR
VERSION:2.0
PRODID:-//Academia para el Cambio Amparo Covaleda - ECPv4.5.1//NONSGML v1.0//EN
CALSCALE:GREGORIAN
METHOD:PUBLISH
X-WR-CALNAME:Academia para el Cambio Amparo Covaleda
X-ORIGINAL-URL:https://acparaelcambio.com
X-WR-CALDESC:Events for Academia para el Cambio Amparo Covaleda
BEGIN:VEVENT
DTSTART;TZID=UTC+0:20171213T141500
DTEND;TZID=UTC+0:20171213T180000
DTSTAMP:20260425T231703
CREATED:20160718T093657Z
LAST-MODIFIED:20171115T225027Z
UID:9585-1513174500-1513188000@acparaelcambio.com
SUMMARY:Me permito amarme y ser amado
DESCRIPTION:Encontrarás las claves para construir una relación de pareja saludable en romance\, pasión y espiritualidad.
URL:https://acparaelcambio.com/event/me-permito-amarme-y-ser-amado/
LOCATION:Calle 92 No. 16-11 UNIANDINOS\, BOGOTA\, BOGOTA D.C.\, Colombia
CATEGORIES:Taller
ATTACH;FMTTYPE=image/jpeg:https://acparaelcambio.com/wp-content/uploads/2016/07/poster2_v_1.jpg
ORGANIZER;CN="Academia%20para%20el%20Cambio":MAILTO:info@acparaelcambio.com
END:VEVENT
END:VCALENDAR