BEGIN:VCALENDAR
VERSION:2.0
PRODID:-//Academia para el Cambio Amparo Covaleda - ECPv4.5.1//NONSGML v1.0//EN
CALSCALE:GREGORIAN
METHOD:PUBLISH
X-WR-CALNAME:Academia para el Cambio Amparo Covaleda
X-ORIGINAL-URL:https://acparaelcambio.com
X-WR-CALDESC:Events for Academia para el Cambio Amparo Covaleda
BEGIN:VEVENT
DTSTART;TZID=UTC+0:20171221T184000
DTEND;TZID=UTC+0:20171221T210000
DTSTAMP:20260425T231116
CREATED:20171219T210109Z
LAST-MODIFIED:20171219T210109Z
UID:11895-1513881600-1513890000@acparaelcambio.com
SUMMARY:Cierre Y Comienzo De Ciclos
DESCRIPTION:Una oportunidad para renovarte\, reinventarte con Amparo Covaleda Coach en Programacion Neurolingüística.
URL:https://acparaelcambio.com/event/cierre-y-comienzo-de-ciclos/
LOCATION:Colombia
CATEGORIES:Taller
ATTACH;FMTTYPE=image/jpeg:https://acparaelcambio.com/wp-content/uploads/2017/12/^0F56970FD02164577F225367813EAE5BFCB45E680238F85DAC^pimgpsh_fullsize_distr.jpg
ORGANIZER;CN="Academia%20para%20el%20Cambio":MAILTO:info@acparaelcambio.com
END:VEVENT
END:VCALENDAR