BEGIN:VCALENDAR
VERSION:2.0
PRODID:-//Academia para el Cambio Amparo Covaleda - ECPv4.5.1//NONSGML v1.0//EN
CALSCALE:GREGORIAN
METHOD:PUBLISH
X-WR-CALNAME:Academia para el Cambio Amparo Covaleda
X-ORIGINAL-URL:https://acparaelcambio.com
X-WR-CALDESC:Events for Academia para el Cambio Amparo Covaleda
BEGIN:VEVENT
DTSTART;TZID=UTC+0:20180310T140000
DTEND;TZID=UTC+0:20180310T163000
DTSTAMP:20260425T190030
CREATED:20180208T024038Z
LAST-MODIFIED:20180208T024054Z
UID:12177-1520690400-1520699400@acparaelcambio.com
SUMMARY:Taller Adultos "La estrategia de la abundancia"
DESCRIPTION:
URL:https://acparaelcambio.com/event/taller-adultos-la-estrategia-de-la-abundancia/
LOCATION:112\, Colombia
CATEGORIES:Taller
ATTACH;FMTTYPE=image/jpeg:https://acparaelcambio.com/wp-content/uploads/2018/02/IMG_5626.jpg
END:VEVENT
END:VCALENDAR